BEGIN:VCALENDAR
VERSION:2.0
PRODID:-//ChamberMaster//Event Calendar 2.0//EN
METHOD:PUBLISH
X-PUBLISHED-TTL:P3D
REFRESH-INTERVAL:P3D
CALSCALE:GREGORIAN
BEGIN:VEVENT
DTSTART;VALUE=DATE:20220408
DTEND;VALUE=DATE:20220411
TRANSP:TRANSPARENT
X-MICROSOFT-CDO-ALLDAYEVENT:TRUE
SUMMARY:Beer Trippin' with Denali Brewing Co.
DESCRIPTION:Denali Brewing Beer Trippin 2022 Homebrew Competition\n\n\n\nFor more information\, including schedule of events\, view the Facebook event here
X-ALT-DESC;FMTTYPE=text/html:Denali Brewing Beer Trippin 2022 Homebrew Competition<br />\n<br />\nFor more information\, including schedule of events\, view the Facebook event <a href="https://www.facebook.com/events/1021239288494965/?active_tab=discussion">here</a><br />\n<br />\n&nbsp\;
LOCATION:Denali Brewpub 13605 E Main St. Talkeetna\, AK 99676
UID:e.3185.16423
SEQUENCE:3
DTSTAMP:20260419T122255Z
URL:http://business.wasillachamber.org/events/details/beer-trippin-with-denali-brewing-co-16423
END:VEVENT

END:VCALENDAR
