BEGIN:VCALENDAR
VERSION:2.0
PRODID:-//ChamberMaster//Event Calendar 2.0//EN
METHOD:PUBLISH
X-PUBLISHED-TTL:P3D
REFRESH-INTERVAL:P3D
CALSCALE:GREGORIAN
BEGIN:VEVENT
DTSTART:20220617T013000Z
DTEND:20220617T030000Z
X-MICROSOFT-CDO-ALLDAYEVENT:FALSE
SUMMARY:Bear Family Paint Night @ Settlers Bay Golf Course
DESCRIPTION:Time to Paint and enjoy Pizza! Join us at Settlers Bay Golf Course 5:30 PM Thursday\, June 16th to paint this fun family design! Great for all painting levels. No experience needed! Instructor will take you step by step. This class is open to all ages. $35 per person\; all supplies included to paint. Please wear good paint clothes or bring your own apron. Register today to save your seat as our class sizes are limited\, and this class WILL sell out! Do not wait! Arrive early and order some drinks\, pizza will be served. There will be wine and beer available for purchase! Settlers Bay Golf Course is located at 7307 S Frontier Dr.\, Wasilla\, AK.\n\nAll sales are final\, No punch cards or passes.
X-ALT-DESC;FMTTYPE=text/html:<div class="kvgmc6g5 cxmmr5t8 oygrvhab hcukyx3x c1et5uql" style="overflow-wrap: break-word\; margin: 0px\; font-family: &quot\;Segoe UI Historic&quot\;\, &quot\;Segoe UI&quot\;\, Helvetica\, Arial\, sans-serif\; color: rgb(5\, 5\, 5)\; font-size: 15px\;">Time to Paint and enjoy Pizza! Join us at Settlers Bay Golf Course 5:30 PM Thursday\, June 16th to paint this fun family design! Great for all painting levels. No experience needed! Instructor will take you step by step. This class is open to all ages. $35 per person\; all supplies included to paint. Please wear good paint clothes or bring your own apron. Register today to save your seat as our class sizes are limited\, and this class WILL sell out! Do not wait! Arrive early and order some drinks\, pizza will be served. There will be wine and beer available for purchase! Settlers Bay Golf Course is located at 7307 S Frontier Dr.\, Wasilla\, AK.</div>\n\n<div class="cxmmr5t8 oygrvhab hcukyx3x c1et5uql o9v6fnle" style="overflow-wrap: break-word\; margin: 0.5em 0px 0px\; font-family: &quot\;Segoe UI Historic&quot\;\, &quot\;Segoe UI&quot\;\, Helvetica\, Arial\, sans-serif\; color: rgb(5\, 5\, 5)\; font-size: 15px\;">All sales are final\, No punch cards or passes.</div>\n
LOCATION:Settlers Bay Golf Course 3707 S. Frontier Dr. Wasilla\, AK 99654
UID:e.3185.16699
SEQUENCE:3
DTSTAMP:20260423T022028Z
URL:http://business.wasillachamber.org/events/details/bear-family-paint-night-settlers-bay-golf-course-16699
END:VEVENT

END:VCALENDAR
