BEGIN:VCALENDAR
VERSION:2.0
PRODID:-//ChamberMaster//Event Calendar 2.0//EN
METHOD:PUBLISH
X-PUBLISHED-TTL:P3D
REFRESH-INTERVAL:P3D
CALSCALE:GREGORIAN
BEGIN:VEVENT
DTSTART:20201013T190000Z
DTEND:20201013T200000Z
X-MICROSOFT-CDO-ALLDAYEVENT:FALSE
SUMMARY:Ballot Measure 2 Presentations - Virtual
DESCRIPTION:Virtual Ballot Measure 2 Presentations via ZOOM\n\n\n\nJoin us for a presentation on both sides of the Ballot Measure 2 issue.\n\n\n\nAdvanced Registration is Required \n\nRegister Here
X-ALT-DESC;FMTTYPE=text/html:Virtual Ballot Measure 2 Presentations via ZOOM<br />\n<br />\nJoin us for a presentation on both sides of the Ballot Measure 2 issue.<br />\n<br />\nAdvanced Registration is Required&nbsp\;<br />\n<a href="https://us02web.zoom.us/webinar/register/8316001308498/WN_hn8y_zfTSDW9Fv_c0_NBGQ">Register Here</a><br />\n<br />\n&nbsp\;
LOCATION:Virtual via ZOOM
UID:e.3185.8181
SEQUENCE:3
DTSTAMP:20260425T231837Z
URL:http://business.wasillachamber.org/events/details/ballot-measure-2-presentations-virtual-8181
END:VEVENT

END:VCALENDAR
