BEGIN:VCALENDAR
VERSION:2.0
PRODID:-//ChamberMaster//Event Calendar 2.0//EN
METHOD:PUBLISH
X-PUBLISHED-TTL:P3D
REFRESH-INTERVAL:P3D
CALSCALE:GREGORIAN
BEGIN:VEVENT
DTSTART:20240428T200000Z
DTEND:20240429T020000Z
X-MICROSOFT-CDO-ALLDAYEVENT:FALSE
SUMMARY:Arctic Comic Con
DESCRIPTION:Join us for Arctic Comic Con!\n\nWhat is Comic Con?\n\nComic Con is the ultimate destination for all things pop culture-its the largest comic book and pop culture convention in Alaska!\n\nIt is for all people that love comics\, anime\, gaming and more!\n\n\n\nClick here to get your Arctic Comic Con Venue tickets today.
X-ALT-DESC;FMTTYPE=text/html:Join us for Arctic Comic Con!<br />\nWhat is Comic Con?<br />\nComic Con is the ultimate destination for all things pop culture-its the largest comic book and pop culture convention in Alaska!<br />\nIt is for all people that love comics\, anime\, gaming and more!<br />\n<br />\n<a data-saferedirecturl="https://www.google.com/url?q=https://o5cy9mgbb.cc.rs6.net/tn.jsp?f%3D001338E03vtUOpFqfjzs7kf-zJG9EIymTqPXnBxFIMe0hJwNWlPUNa76hTICfrwDyJkigRqdLEKjsAhjSJrdUJGYQkQAJ10PzPYuT9TlGBputEWTaI8eyGAf3b_R77onXn8_1jjnfWejhtr5WJkRq-1_flrIhm7YhVA5eNEz6tq1o8nDxqunEGXSE0QvDDu3FuHIoKwkLEnVGVQs9v2isKn5Q%3D%3D%26c%3DM3LtiqNmpK7M-jHNm1UxZh4KPlxTjAiBBl66kwLNwsENHKciPxxXjQ%3D%3D%26ch%3Dfn7CMMTnjSKELV0gvn_aczvgin5G5aeTe-lZ93RYI5vRZjTb5-tDUQ%3D%3D&amp\;source=gmail&amp\;ust=1713392157924000&amp\;usg=AOvVaw1chNNGgqqY0OB8fDYYd2Y7" href="https://o5cy9mgbb.cc.rs6.net/tn.jsp?f=001338E03vtUOpFqfjzs7kf-zJG9EIymTqPXnBxFIMe0hJwNWlPUNa76hTICfrwDyJkigRqdLEKjsAhjSJrdUJGYQkQAJ10PzPYuT9TlGBputEWTaI8eyGAf3b_R77onXn8_1jjnfWejhtr5WJkRq-1_flrIhm7YhVA5eNEz6tq1o8nDxqunEGXSE0QvDDu3FuHIoKwkLEnVGVQs9v2isKn5Q==&amp\;c=M3LtiqNmpK7M-jHNm1UxZh4KPlxTjAiBBl66kwLNwsENHKciPxxXjQ==&amp\;ch=fn7CMMTnjSKELV0gvn_aczvgin5G5aeTe-lZ93RYI5vRZjTb5-tDUQ==" jslog="32272\; 1:WyIjdGhyZWFkLWY6MTc5NjUzMTI5NDY0Mzk4MzU1NiJd\; 4:WyIjbXNnLWY6MTc5NjUzMTI5NDY0Mzk4MzU1NiJd" style="color: rgb(255\, 255\, 255)\; font-family: Arial\, Verdana\, Helvetica\, sans-serif\; background-color: rgb(87\, 87\, 87)\; font-size: 16px\; font-weight: bold\; text-decoration-line: none\;" target="_blank">Click here to get your Arctic Comic Con Venue tickets today.</a>
LOCATION:Dena'ina Center in Anchorage
UID:e.3185.21980
SEQUENCE:3
DTSTAMP:20260421T123412Z
URL:http://business.wasillachamber.org/events/details/arctic-comic-con-21980
END:VEVENT

END:VCALENDAR
