BEGIN:VCALENDAR
VERSION:2.0
PRODID:-//ChamberMaster//Event Calendar 2.0//EN
METHOD:PUBLISH
X-PUBLISHED-TTL:P3D
REFRESH-INTERVAL:P3D
CALSCALE:GREGORIAN
BEGIN:VEVENT
DTSTART:20210821T190000Z
DTEND:20210822T060000Z
X-MICROSOFT-CDO-ALLDAYEVENT:FALSE
SUMMARY:Alaska State Fair
DESCRIPTION:Alaskans will have even more time to enjoy the Alaska State Fair in 2021\, as organizers have announced an expanded 14-day schedule for this year's event. The 2021 Fair\, themed Seeing is Believing\, will be held Friday\, August 20\, through Monday\, September 6\, at the fairgrounds in Palmer.\n\nHours will be 11 a.m. - 10 p.m. daily.\n\nDuring the 14-day run\, the Fair will be closed on Tuesdays and Wednesdays (August 24 - 25 and August 31 - September 1).\n\nOur goal by adding another weekend is to help spread out the Fair crowds and keep fairgoers as safe as possible as Alaska continues to respond to the global pandemic\, said Jerome Hertel\, Fair CEO\, adding that the Fair will be adhering to the current CDC recommendations for large events and will be filing a mitigation plan to the State.\n\nThe expanded schedule will also provide an additional economic boost for the over 400 vendors at the Fair and\, of course\, provide an extra weekend of fun for our guests\, he added.\n\nThe schedule for the 14-day Fair will look much the same as previous years\, with a couple of noteworthy exceptions during the first weekend\,\n\nAugust 20 - 23:\n\nThe first weekend will feature fairgoer favorites\, including carnival rides\, vendors and concerts.\n\nThe first weekend schedule will also include a free-with-Fair-admission RAM Trucks Timed Event Challenge in the Grandstand.\n\nThe Farm Exhibits building will be closed the first weekend\, as the livestock and their owners need the extra week to prepare. Animals will be in the barn on Thursday\, August 26.\n\nPerishable exhibit items will also not be featured the first weekend.\n\nEarly admission prices will be extended through Monday\, August 23.
X-ALT-DESC;FMTTYPE=text/html:Alaskans will have even more time to enjoy the Alaska State Fair in 2021\, as organizers have announced an expanded 14-day schedule for this year&#39\;s event. The 2021 Fair\, themed Seeing is Believing\, will be held Friday\, August 20\, through Monday\, September 6\, at the fairgrounds in Palmer.<br />\nHours will be 11 a.m. - 10 p.m. daily.<br />\nDuring the 14-day run\, the Fair will be closed on Tuesdays and Wednesdays (August 24 - 25 and August 31 - September 1).<br />\nOur goal by adding another weekend is to help spread out the Fair crowds and keep fairgoers as safe as possible as Alaska continues to respond to the global pandemic\, said Jerome Hertel\, Fair CEO\, adding that the Fair will be adhering to the current CDC recommendations for large events and will be filing a mitigation plan to the State.<br />\nThe expanded schedule will also provide an additional economic boost for the over 400 vendors at the Fair and\, of course\, provide an extra weekend of fun for our guests\, he added.<br />\nThe schedule for the 14-day Fair will look much the same as previous years\, with a couple of noteworthy exceptions during the first weekend\,<br />\nAugust 20 - 23:<br />\nThe first weekend will feature fairgoer favorites\, including carnival rides\, vendors and concerts.<br />\nThe first weekend schedule will also include a free-with-Fair-admission RAM Trucks Timed Event Challenge in the Grandstand.<br />\nThe Farm Exhibits building will be closed the first weekend\, as the livestock and their owners need the extra week to prepare. Animals will be in the barn on Thursday\, August 26.<br />\nPerishable exhibit items will also not be featured the first weekend.<br />\nEarly admission prices will be extended through Monday\, August 23.
LOCATION:Alaska State Fairground 2075 Glenn Hwy. Palmer\, AK 99645
UID:e.3185.13091
SEQUENCE:3
DTSTAMP:20260420T102139Z
URL:http://business.wasillachamber.org/events/details/alaska-state-fair-13091
END:VEVENT

END:VCALENDAR
