BEGIN:VCALENDAR
VERSION:2.0
PRODID:-//ChamberMaster//Event Calendar 2.0//EN
METHOD:PUBLISH
X-PUBLISHED-TTL:P3D
REFRESH-INTERVAL:P3D
CALSCALE:GREGORIAN
BEGIN:VEVENT
DTSTART:20240304T180000Z
DTEND:20240305T020000Z
X-MICROSOFT-CDO-ALLDAYEVENT:FALSE
SUMMARY:Alaska SBDC Summit Exploring Artificial Intelligence
DESCRIPTION:Save the date for Alaska's first AI conference - SBDC Summit: Exploring Artificial Intelligence. \n\nThe Alaska SBDC and partners will bring together some of the top minds in AI locally and nationwide to explore the implications and potential in advancing Alaskan business\, education\, culture\, and government. Join us on March 4 at the prestigious Hotel Captain Cook in Anchorage\, AK!
X-ALT-DESC;FMTTYPE=text/html:<p style="margin-top: 0px\; margin-bottom: 10px\; line-height: 23.2px\; font-family: Lato\, Arial\, Helvetica\, sans-serif\; font-size: 16px\;"><span style="font-family: verdana\, geneva\; font-size: 10pt\;">Save the date for Alaska&rsquo\;s first AI conference -&nbsp\;<a href="https://sbdcsummit.com/" style="color: rgb(45\, 119\, 179)\; text-decoration-line: none\;"><strong>SBDC Summit: Exploring Artificial Intelligence</strong></a>.&nbsp\;</span></p>\n\n<p style="margin-top: 0px\; margin-bottom: 10px\; line-height: 23.2px\; font-family: Lato\, Arial\, Helvetica\, sans-serif\; font-size: 16px\;"><span style="font-family: verdana\, geneva\; font-size: 10pt\;">The Alaska SBDC and partners will bring together some of the top minds in AI locally and nationwide to explore the implications and potential in advancing Alaskan business\, education\, culture\, and government. Join us on March 4 at the prestigious Hotel Captain Cook in Anchorage\, AK!</span></p>\n
LOCATION:Hotel Captain Cook 939 W 5th Ave\, Anchorage AK 99501
UID:e.3185.21929
SEQUENCE:3
DTSTAMP:20260425T133856Z
URL:http://business.wasillachamber.org/events/details/alaska-sbdc-summit-exploring-artificial-intelligence-21929
END:VEVENT

END:VCALENDAR
