BEGIN:VCALENDAR
VERSION:2.0
PRODID:-//ChamberMaster//Event Calendar 2.0//EN
METHOD:PUBLISH
X-PUBLISHED-TTL:P3D
REFRESH-INTERVAL:P3D
CALSCALE:GREGORIAN
BEGIN:VEVENT
DTSTART:20220430T030000Z
DTEND:20220430T050000Z
X-MICROSOFT-CDO-ALLDAYEVENT:FALSE
SUMMARY:AIDA at Valley Performing Arts
DESCRIPTION:AIDA\n\nBy Elton john and Tim Rice\n\nDirected by Grant Olson\n\nMusical\n\nProduced by special arrangement with Music Theatre International\n\n\n\n\n\n \n\n\n\n\n\n\n\nAIDA is the tale of star-crossed lovers from feuding nations\, torn between their conflicted loyalties to their countries and to each other. With its stirring contemporary score and its powerful love story\, AIDA reveals that we have the power to change history\, but only when we make brave choices and embrace our destiny. Winner of four 2000 Tony Awards\, Elton John and Tim Rice's AIDA is an epic tale of love\, loyalty and betrayal.
X-ALT-DESC;FMTTYPE=text/html:<div class="et_pb_row_inner et_pb_row_inner_0" style="box-sizing: border-box\; margin: 0px\; padding: 29.6875px 0px\; border: 0px\; outline: 0px\; font-size: 14px\; text-size-adjust: 100%\; vertical-align: baseline\; background-image: initial\; background-position: 50% center\; background-size: cover\; background-repeat: no-repeat\; background-attachment: initial\; background-origin: initial\; background-clip: initial\; width: 699.969px\; position: relative\; color: rgb(102\, 102\, 102)\; font-family: &quot\;Open Sans&quot\;\, Arial\, sans-serif\;">\n<div class="et_pb_column et_pb_column_1_3 et_pb_column_inner et_pb_column_inner_0" style="box-sizing: border-box\; margin: 0px 31.9688px 0px 0px\; padding: 0px\; border: 0px\; outline: 0px\; text-size-adjust: 100%\; vertical-align: baseline\; background: 50% center / cover no-repeat transparent\; float: left\; position: relative\; z-index: 2\; min-height: 1px\; width: 333.984px\;">\n<div class="et_pb_module et_pb_text et_pb_text_2  et_pb_text_align_left et_pb_bg_layout_light" style="box-sizing: border-box\; margin: 0px\; padding: 0px\; border: 0px\; outline: 0px\; text-size-adjust: 100%\; vertical-align: baseline\; background: 50% center / cover no-repeat transparent\; animation-timing-function: linear\; animation-duration: 0.2s\; overflow-wrap: break-word\;">\n<div class="et_pb_text_inner" style="box-sizing: border-box\; margin: 0px\; padding: 0px\; border: 0px\; outline: 0px\; text-size-adjust: 100%\; vertical-align: baseline\; background: transparent\; position: relative\;">\n<h1 style="box-sizing: border-box\; margin: 0px\; padding: 0px 0px 10px\; border: 0px\; outline: 0px\; font-size: 26px\; text-size-adjust: 100%\; vertical-align: baseline\; background: transparent\; color: rgb(51\, 51\, 51)\; line-height: 1em\; overflow-wrap: break-word\;">AIDA</h1>\n\n<p style="box-sizing: border-box\; margin: 0px\; padding: 0px 0px 1em\; border: 0px\; outline: 0px\; text-size-adjust: 100%\; vertical-align: baseline\; background: transparent\; overflow-wrap: break-word\;">By Elton john and Tim Rice</p>\n\n<p style="box-sizing: border-box\; margin: 0px\; padding: 0px 0px 1em\; border: 0px\; outline: 0px\; text-size-adjust: 100%\; vertical-align: baseline\; background: transparent\; overflow-wrap: break-word\;">Directed by Grant Olson</p>\n\n<p style="box-sizing: border-box\; margin: 0px\; padding: 0px 0px 1em\; border: 0px\; outline: 0px\; text-size-adjust: 100%\; vertical-align: baseline\; background: transparent\; overflow-wrap: break-word\;">Musical</p>\n\n<p style="box-sizing: border-box\; margin: 0px\; padding: 0px\; border: 0px\; outline: 0px\; text-size-adjust: 100%\; vertical-align: baseline\; background: transparent\; overflow-wrap: break-word\;">Produced by special arrangement with Music Theatre International</p>\n</div>\n</div>\n</div>\n\n<div class="et_pb_column et_pb_column_1_3 et_pb_column_inner et_pb_column_inner_1 et-last-child" style="box-sizing: border-box\; margin: 0px\; padding: 0px\; border: 0px\; outline: 0px\; text-size-adjust: 100%\; vertical-align: baseline\; background: 50% center / cover no-repeat transparent\; float: left\; position: relative\; z-index: 2\; min-height: 1px\; width: 333.984px\;">\n<div class="et_pb_module et_pb_cta_0 et_pb_promo  et_pb_text_align_center et_pb_bg_layout_light et_pb_no_bg" style="box-sizing: border-box\; margin: 0px\; padding: 20px\; border: 0px\; outline: 0px\; text-size-adjust: 100%\; vertical-align: baseline\; background: 50% center / cover no-repeat transparent\; animation-timing-function: linear\; animation-duration: 0.2s\; text-align: center\;">&nbsp\;</div>\n</div>\n</div>\n\n<div class="et_pb_row_inner et_pb_row_inner_1" style="box-sizing: border-box\; margin: 0px\; padding: 29.6875px 0px\; border: 0px\; outline: 0px\; font-size: 14px\; text-size-adjust: 100%\; vertical-align: baseline\; background-image: initial\; background-position: 50% center\; background-size: cover\; background-repeat: no-repeat\; background-attachment: initial\; background-origin: initial\; background-clip: initial\; width: 699.969px\; position: relative\; color: rgb(102\, 102\, 102)\; font-family: &quot\;Open Sans&quot\;\, Arial\, sans-serif\;">\n<div class="et_pb_column et_pb_column_4_4 et_pb_column_inner et_pb_column_inner_2 et-last-child" style="box-sizing: border-box\; margin-top: 0px\; margin-bottom: 0px\; margin-left: 0px\; padding: 0px\; border: 0px\; outline: 0px\; text-size-adjust: 100%\; vertical-align: baseline\; background: 50% center / cover no-repeat transparent\; float: left\; position: relative\; z-index: 2\; min-height: 1px\; width: 699.969px\; margin-right: 0px !important\;">\n<div class="et_pb_module et_pb_text et_pb_text_3  et_pb_text_align_left et_pb_bg_layout_light" style="box-sizing: border-box\; margin: 0px\; padding: 0px\; border: 0px\; outline: 0px\; text-size-adjust: 100%\; vertical-align: baseline\; background: 50% center / cover no-repeat transparent\; animation-timing-function: linear\; animation-duration: 0.2s\; overflow-wrap: break-word\;">\n<div class="et_pb_text_inner" style="box-sizing: border-box\; margin: 0px\; padding: 0px\; border: 0px\; outline: 0px\; text-size-adjust: 100%\; vertical-align: baseline\; background: transparent\; position: relative\;">\n<p style="box-sizing: border-box\; margin: 0px\; padding: 0px\; border: 0px\; outline: 0px\; text-size-adjust: 100%\; vertical-align: baseline\; background: transparent\; overflow-wrap: break-word\; text-align: justify\;">AIDA is the tale of star-crossed lovers from feuding nations\, torn between their conflicted loyalties to their countries and to each other. With its stirring contemporary score and its powerful love story\, AIDA reveals that we have the power to change history\, but only when we make brave choices and embrace our destiny. Winner of four 2000 Tony Awards\, Elton John and Tim Rice&rsquo\;s AIDA is an epic tale of love\, loyalty and betrayal.</p>\n</div>\n</div>\n</div>\n</div>\n
LOCATION:Valley Performing Arts 251 W. Swanson Rd. Wasilla\, AK 99654
UID:e.3185.16492
SEQUENCE:3
DTSTAMP:20260419T122716Z
URL:http://business.wasillachamber.org/events/details/aida-at-valley-performing-arts-04-29-2022-16492
END:VEVENT

END:VCALENDAR
