BEGIN:VCALENDAR
VERSION:2.0
PRODID:-//ChamberMaster//Event Calendar 2.0//EN
METHOD:PUBLISH
X-PUBLISHED-TTL:P3D
REFRESH-INTERVAL:P3D
CALSCALE:GREGORIAN
BEGIN:VEVENT
DTSTART;VALUE=DATE:20220426
DTEND;VALUE=DATE:20220427
TRANSP:TRANSPARENT
X-MICROSOFT-CDO-ALLDAYEVENT:TRUE
SUMMARY:$5 Movie Tuesdays at The Valley Cinema
DESCRIPTION:All 2D movies\, all day only $5!
X-ALT-DESC;FMTTYPE=text/html:All 2D movies\, all day only $5!
LOCATION:The Valley Cinema 3331 E. Old Matanuska Rd. Wasilla\, AK 99654
UID:e.3185.15521
SEQUENCE:3
DTSTAMP:20260419T123345Z
URL:http://business.wasillachamber.org/events/details/5-movie-tuesdays-at-the-valley-cinema-04-26-2022-15521
END:VEVENT

END:VCALENDAR
