BEGIN:VCALENDAR
VERSION:2.0
PRODID:-//ChamberMaster//Event Calendar 2.0//EN
METHOD:PUBLISH
X-PUBLISHED-TTL:P3D
REFRESH-INTERVAL:P3D
CALSCALE:GREGORIAN
BEGIN:VEVENT
DTSTART:20210614T003000Z
DTEND:20210614T023000Z
X-MICROSOFT-CDO-ALLDAYEVENT:FALSE
SUMMARY:3rd Annual Albinism Awareness Walk
DESCRIPTION:International Albinism Awareness Day is June 13th!\n\nValley Imaging will be sponsoring the 3rd Annual Albinism Walk!\n\n\n\nWHAT IS ALBINISM??\n\n\n\nAlbinism is an inherited genetic condition that reduces the amount of melanin pigment formed in the skin\, hair\, and/or eyes. Many people with Albinism are legally blind because of the lack of pigmentation in the eyes. Albinism occurs in all racial and ethnic groups throughout the world. In the U.S.\, approximately one in 18\,000 to 20\,000 people have some type of albinism. In other parts of the world\, the occurrence can be as high as one in 3\,000. Most children with albinism are born to parents whose hair and eye color are typical for their ethnic backgrounds.\n\n\n\nCome walk and enjoy snacks with us on June 13th at 4:30pm. The walk begins at Refuge CrossFit located at 12151 E Palmer-Wasilla Hwy\, Palmer\, AK.\n\n\n\nFeel free to stop by and make donations\, enjoy snacks\, and/or enter to win prizes! ALL proceeds will be donated to the NOAH foundation (National Organization for Albinism & Hypopigmentation).\n\n\n\nPlease be respectful of the visually impaired and leave your dog\, bikes\, and scooters at home!\n\n\n\nHelp us spread awareness in the community for this amazing cause!
X-ALT-DESC;FMTTYPE=text/html:<span style="color: rgb(5\, 5\, 5)\; font-family: &quot\;Segoe UI Historic&quot\;\, &quot\;Segoe UI&quot\;\, Helvetica\, Arial\, sans-serif\; font-size: 15px\;">International Albinism Awareness Day is June 13th!</span><br style="color: rgb(5\, 5\, 5)\; font-family: &quot\;Segoe UI Historic&quot\;\, &quot\;Segoe UI&quot\;\, Helvetica\, Arial\, sans-serif\; font-size: 15px\;" />\n<span style="color: rgb(5\, 5\, 5)\; font-family: &quot\;Segoe UI Historic&quot\;\, &quot\;Segoe UI&quot\;\, Helvetica\, Arial\, sans-serif\; font-size: 15px\;">Valley Imaging will be sponsoring the 3rd Annual Albinism Walk!</span><br style="color: rgb(5\, 5\, 5)\; font-family: &quot\;Segoe UI Historic&quot\;\, &quot\;Segoe UI&quot\;\, Helvetica\, Arial\, sans-serif\; font-size: 15px\;" />\n<br style="color: rgb(5\, 5\, 5)\; font-family: &quot\;Segoe UI Historic&quot\;\, &quot\;Segoe UI&quot\;\, Helvetica\, Arial\, sans-serif\; font-size: 15px\;" />\n<span style="color: rgb(5\, 5\, 5)\; font-family: &quot\;Segoe UI Historic&quot\;\, &quot\;Segoe UI&quot\;\, Helvetica\, Arial\, sans-serif\; font-size: 15px\;">WHAT IS ALBINISM??</span><br style="color: rgb(5\, 5\, 5)\; font-family: &quot\;Segoe UI Historic&quot\;\, &quot\;Segoe UI&quot\;\, Helvetica\, Arial\, sans-serif\; font-size: 15px\;" />\n<br style="color: rgb(5\, 5\, 5)\; font-family: &quot\;Segoe UI Historic&quot\;\, &quot\;Segoe UI&quot\;\, Helvetica\, Arial\, sans-serif\; font-size: 15px\;" />\n<span style="color: rgb(5\, 5\, 5)\; font-family: &quot\;Segoe UI Historic&quot\;\, &quot\;Segoe UI&quot\;\, Helvetica\, Arial\, sans-serif\; font-size: 15px\;">Albinism is an inherited genetic condition that reduces the amount of melanin pigment formed in the skin\, hair\, and/or eyes. Many people with Albinism are legally blind because of the lack of pigmentation in the eyes. Albinism occurs in all racial and ethnic groups throughout the world. In the U.S.\, approximately one in 18\,000 to 20\,000 people have some type of albinism. In other parts of the world\, the occurrence can be as high as one in 3\,000. Most children with albinism are born to parents whose hair and eye color are typical for their ethnic backgrounds.</span><br style="color: rgb(5\, 5\, 5)\; font-family: &quot\;Segoe UI Historic&quot\;\, &quot\;Segoe UI&quot\;\, Helvetica\, Arial\, sans-serif\; font-size: 15px\;" />\n<br style="color: rgb(5\, 5\, 5)\; font-family: &quot\;Segoe UI Historic&quot\;\, &quot\;Segoe UI&quot\;\, Helvetica\, Arial\, sans-serif\; font-size: 15px\;" />\n<span style="color: rgb(5\, 5\, 5)\; font-family: &quot\;Segoe UI Historic&quot\;\, &quot\;Segoe UI&quot\;\, Helvetica\, Arial\, sans-serif\; font-size: 15px\;">Come walk and enjoy snacks with us on June 13th at 4:30pm. The walk begins at Refuge CrossFit located at 12151 E Palmer-Wasilla Hwy\, Palmer\, AK.</span><br style="color: rgb(5\, 5\, 5)\; font-family: &quot\;Segoe UI Historic&quot\;\, &quot\;Segoe UI&quot\;\, Helvetica\, Arial\, sans-serif\; font-size: 15px\;" />\n<br style="color: rgb(5\, 5\, 5)\; font-family: &quot\;Segoe UI Historic&quot\;\, &quot\;Segoe UI&quot\;\, Helvetica\, Arial\, sans-serif\; font-size: 15px\;" />\n<span style="color: rgb(5\, 5\, 5)\; font-family: &quot\;Segoe UI Historic&quot\;\, &quot\;Segoe UI&quot\;\, Helvetica\, Arial\, sans-serif\; font-size: 15px\;">Feel free to stop by and make donations\, enjoy snacks\, and/or enter to win prizes! ALL proceeds will be donated to the NOAH foundation (National Organization for Albinism &amp\; Hypopigmentation).</span><br style="color: rgb(5\, 5\, 5)\; font-family: &quot\;Segoe UI Historic&quot\;\, &quot\;Segoe UI&quot\;\, Helvetica\, Arial\, sans-serif\; font-size: 15px\;" />\n<br style="color: rgb(5\, 5\, 5)\; font-family: &quot\;Segoe UI Historic&quot\;\, &quot\;Segoe UI&quot\;\, Helvetica\, Arial\, sans-serif\; font-size: 15px\;" />\n<span style="color: rgb(5\, 5\, 5)\; font-family: &quot\;Segoe UI Historic&quot\;\, &quot\;Segoe UI&quot\;\, Helvetica\, Arial\, sans-serif\; font-size: 15px\;">Please be respectful of the visually impaired and leave your dog\, bikes\, and scooters at home!</span><br style="color: rgb(5\, 5\, 5)\; font-family: &quot\;Segoe UI Historic&quot\;\, &quot\;Segoe UI&quot\;\, Helvetica\, Arial\, sans-serif\; font-size: 15px\;" />\n<br style="color: rgb(5\, 5\, 5)\; font-family: &quot\;Segoe UI Historic&quot\;\, &quot\;Segoe UI&quot\;\, Helvetica\, Arial\, sans-serif\; font-size: 15px\;" />\n<span style="color: rgb(5\, 5\, 5)\; font-family: &quot\;Segoe UI Historic&quot\;\, &quot\;Segoe UI&quot\;\, Helvetica\, Arial\, sans-serif\; font-size: 15px\;">Help us spread awareness in the community for this amazing cause!</span>
LOCATION:Refuge CrossFit 12151 E. Palmer-Wasilla Hwy. Palmer\, AK 96645
UID:e.3185.13609
SEQUENCE:3
DTSTAMP:20260423T103135Z
URL:http://business.wasillachamber.org/events/details/3rd-annual-albinism-awareness-walk-13609
END:VEVENT

END:VCALENDAR
